BEGIN:VCALENDAR
VERSION:2.0
PRODID:-//Intand Corporation//Tandem//EN
METHOD:PUBLISH
BEGIN:VEVENT
DTSTAMP:20260419T133314Z
DTSTART:20260909T153000Z
DTEND:20260909T190000Z
TRANSP:TRANSPARENT
PRIORITY:0
SUMMARY:K-4 Class Photos and Individual Pictures
LOCATION:K - 4 Buildings (A & B) > Valley Central
DESCRIPTION:Setup: 6:30 am\nBreakdown: 12:05 pm\n\nGroups:\n3rd Grade\n1st
  Grade\n4th Grade\n2nd Grade\nKindergarten\n\nSchools:\nVCS K-4\n\nLocatio
 n:\nK - 4 Buildings (A & B) > Valley Central\n\n
URL;VALUE=URI:https://valleychristianschools.tandem.co/index.php?type=view
 &action=event&id=34735
CREATED:20260416T172954Z
LAST-MODIFIED:20260416T175827Z
UID:event_request-34735-valleychristianschools@intand.com
END:VEVENT
END:VCALENDAR
